BEGIN:VCALENDAR
VERSION:2.0
PRODID:-//taviti/caldav-go//NONSGML v1.0.0//EN
BEGIN:VEVENT
UID:bd23166d-4803-4775-a945-2f7b9430f51c
DTSTAMP:20260421T100208Z
DTSTART:20260106T020000Z
DURATION:PT1H40M
DESCRIPTION:Practice: 30m0s\nQualify: 30m0s\nRace: 20m0s\nRace (Reverse Grid): 20m0s\n\n32 entrants in: Mazda MX5 Cup
LOCATION:Eastern Creek NSW, Australia
SUMMARY:Event at Sydney Motorsport Park - Druitt North Circuit, Eastern Creek NSW, Australia (NA - MX5 - Real Rookie Racing Open Season 10 - https://tekly.racing)
URL;VALUE=URI:https://na-mx5.realrookie.racing/championship/d0d9adbd-90d9-4a61-ae93-a8fa8b5bf38d
END:VEVENT
BEGIN:VEVENT
UID:33785767-ac3a-42bb-97b2-f7f588ede387
DTSTAMP:20260421T100208Z
DTSTART:20260113T020000Z
DURATION:PT1H40M
DESCRIPTION:Practice: 30m0s\nQualify: 30m0s\nRace: 20m0s\nRace (Reverse Grid): 20m0s\n\n32 entrants in: Mazda MX5 Cup
LOCATION:Monte Carlo, Monaco
SUMMARY:Event at Monaco 1966 family edition_[THR], Monte Carlo, Monaco (NA - MX5 - Real Rookie Racing Open Season 10 - https://tekly.racing)
URL;VALUE=URI:https://na-mx5.realrookie.racing/championship/d0d9adbd-90d9-4a61-ae93-a8fa8b5bf38d
END:VEVENT
BEGIN:VEVENT
UID:d84392ea-5feb-41f4-b67d-080002406bd9
DTSTAMP:20260421T100208Z
DTSTART:20260120T020000Z
DURATION:PT1H45M
DESCRIPTION:Practice: 30m0s\nQualify: 30m0s\nRace: 45m0s\n\n32 entrants in: Mazda MX5 Cup
LOCATION:Willow Springs, USA
SUMMARY:Event at Willow Springs - Big Willow, Willow Springs, USA (NA - MX5 - Real Rookie Racing Open Season 10 - https://tekly.racing)
URL;VALUE=URI:https://na-mx5.realrookie.racing/championship/d0d9adbd-90d9-4a61-ae93-a8fa8b5bf38d
END:VEVENT
BEGIN:VEVENT
UID:bf9afabe-b00a-4966-ad36-57f2f3bbb690
DTSTAMP:20260421T100208Z
DTSTART:20260127T020000Z
DURATION:PT1H40M
DESCRIPTION:Practice: 30m0s\nQualify: 30m0s\nRace: 20m0s\nRace (Reverse Grid): 20m0s\n\n32 entrants in: Mazda MX5 Cup
LOCATION:Portland, USA
SUMMARY:Event at Portland International Raceway No Chicane, Portland, USA (NA - MX5 - Real Rookie Racing Open Season 10 - https://tekly.racing)
URL;VALUE=URI:https://na-mx5.realrookie.racing/championship/d0d9adbd-90d9-4a61-ae93-a8fa8b5bf38d
END:VEVENT
BEGIN:VEVENT
UID:97107e7b-e578-4a34-95d4-580f26b89100
DTSTAMP:20260421T100208Z
DTSTART:20260203T020000Z
DURATION:PT1H40M
DESCRIPTION:Practice: 30m0s\nQualify: 30m0s\nRace: 20m0s\nRace (Reverse Grid): 20m0s\n\n32 entrants in: Mazda MX5 Cup
LOCATION:Detroit, USA
SUMMARY:Event at Detroit Belle Isle 2021, Detroit, USA (NA - MX5 - Real Rookie Racing Open Season 10 - https://tekly.racing)
URL;VALUE=URI:https://na-mx5.realrookie.racing/championship/d0d9adbd-90d9-4a61-ae93-a8fa8b5bf38d
END:VEVENT
BEGIN:VEVENT
UID:f43350fd-9669-4994-9496-db99b38588da
DTSTAMP:20260421T100208Z
DTSTART:20260210T020000Z
DURATION:PT1H45M
DESCRIPTION:Practice: 30m0s\nQualify: 30m0s\nRace: 45m0s\n\n32 entrants in: Mazda MX5 Cup
LOCATION:Riga, Latvia
SUMMARY:Event at Bikernieki - High Speed Ring, Riga, Latvia (NA - MX5 - Real Rookie Racing Open Season 10 - https://tekly.racing)
URL;VALUE=URI:https://na-mx5.realrookie.racing/championship/d0d9adbd-90d9-4a61-ae93-a8fa8b5bf38d
END:VEVENT
BEGIN:VEVENT
UID:54a49835-70da-41de-8734-9ea9403afc7d
DTSTAMP:20260421T100208Z
DTSTART:20260217T020000Z
DURATION:PT1H40M
DESCRIPTION:Practice: 30m0s\nQualify: 30m0s\nRace: 20m0s\nRace (Reverse Grid): 20m0s\n\n32 entrants in: Mazda MX5 Cup
LOCATION:Chichester, Great Britain
SUMMARY:Event at Goodwood, Chichester, Great Britain (NA - MX5 - Real Rookie Racing Open Season 10 - https://tekly.racing)
URL;VALUE=URI:https://na-mx5.realrookie.racing/championship/d0d9adbd-90d9-4a61-ae93-a8fa8b5bf38d
END:VEVENT
BEGIN:VEVENT
UID:7dc81f2b-7dce-4250-9fd7-783b0e0ea86d
DTSTAMP:20260421T100208Z
DTSTART:20260224T020000Z
DURATION:PT1H40M
DESCRIPTION:Practice: 30m0s\nQualify: 30m0s\nRace: 20m0s\nRace (Reverse Grid): 20m0s\n\n32 entrants in: Mazda MX5 Cup
LOCATION:, 
SUMMARY:Event at Pascani Motorpark O, ,  (NA - MX5 - Real Rookie Racing Open Season 10 - https://tekly.racing)
URL;VALUE=URI:https://na-mx5.realrookie.racing/championship/d0d9adbd-90d9-4a61-ae93-a8fa8b5bf38d
END:VEVENT
BEGIN:VEVENT
UID:688cb741-4637-4b16-8880-61ad2409cb93
DTSTAMP:20260421T100208Z
DTSTART:20260303T020000Z
DURATION:PT1H45M
DESCRIPTION:Practice: 30m0s\nQualify: 30m0s\nRace: 45m0s\n\n32 entrants in: Mazda MX5 Cup
LOCATION:Poznan, Poland
SUMMARY:Event at Tor Poznań, Poznan, Poland (NA - MX5 - Real Rookie Racing Open Season 10 - https://tekly.racing)
URL;VALUE=URI:https://na-mx5.realrookie.racing/championship/d0d9adbd-90d9-4a61-ae93-a8fa8b5bf38d
END:VEVENT
BEGIN:VEVENT
UID:6e5b9b4c-5a89-4654-937c-3312ef169562
DTSTAMP:20260421T100208Z
DTSTART:20260310T010000Z
DURATION:PT1H40M
DESCRIPTION:Practice: 30m0s\nQualify: 30m0s\nRace: 20m0s\nRace (Reverse Grid): 20m0s\n\n32 entrants in: Mazda MX5 Cup
LOCATION:Moscow, Russia
SUMMARY:Event at Moscow Raceway Sprint, Moscow, Russia (NA - MX5 - Real Rookie Racing Open Season 10 - https://tekly.racing)
URL;VALUE=URI:https://na-mx5.realrookie.racing/championship/d0d9adbd-90d9-4a61-ae93-a8fa8b5bf38d
END:VEVENT
BEGIN:VEVENT
UID:a637b8ec-11f6-4a02-892c-0cd02ff580cc
DTSTAMP:20260421T100208Z
DTSTART:20260317T010000Z
DURATION:PT1H45M
DESCRIPTION:Practice: 30m0s\nQualify: 30m0s\nRace: 45m0s\n\n32 entrants in: Mazda MX5 Cup
LOCATION:St-Jovite, Canada
SUMMARY:Event at Le Circuit Mont-Tremblant 1969 - Grand Prix (League), St-Jovite, Canada (NA - MX5 - Real Rookie Racing Open Season 10 - https://tekly.racing)
URL;VALUE=URI:https://na-mx5.realrookie.racing/championship/d0d9adbd-90d9-4a61-ae93-a8fa8b5bf38d
END:VEVENT
BEGIN:VEVENT
UID:31c0aa0d-b59a-46b0-a299-b259c6d0374c
DTSTAMP:20260421T100208Z
DTSTART:20260324T010000Z
DURATION:PT1H40M
DESCRIPTION:Practice: 30m0s\nQualify: 30m0s\nRace: 20m0s\nRace (Reverse Grid): 20m0s\n\n32 entrants in: Mazda MX5 Cup
LOCATION:blank, USA
SUMMARY:Event at Washington DC - Capitol Hill, blank, USA (NA - MX5 - Real Rookie Racing Open Season 10 - https://tekly.racing)
URL;VALUE=URI:https://na-mx5.realrookie.racing/championship/d0d9adbd-90d9-4a61-ae93-a8fa8b5bf38d
END:VEVENT
BEGIN:VEVENT
UID:14df2331-a554-44b4-8ec6-bbafc581802a
DTSTAMP:20260421T100208Z
DTSTART:20260331T010000Z
DURATION:PT1H50M
DESCRIPTION:Practice: 25m0s\nQualify: 25m0s\nRace: 1h0m0s\n\n32 entrants in: Mazda MX5 Cup
LOCATION:Monterey, USA
SUMMARY:Event at Laguna Seca OSRW, Monterey, USA (NA - MX5 - Real Rookie Racing Open Season 10 - https://tekly.racing)
URL;VALUE=URI:https://na-mx5.realrookie.racing/championship/d0d9adbd-90d9-4a61-ae93-a8fa8b5bf38d
END:VEVENT
END:VCALENDAR